BEGIN:VCALENDAR
VERSION:2.0
PRODID:-//Evolving Love - ECPv6.15.20//NONSGML v1.0//EN
CALSCALE:GREGORIAN
METHOD:PUBLISH
X-WR-CALNAME:Evolving Love
X-ORIGINAL-URL:https://evolvinglove.us
X-WR-CALDESC:Events for Evolving Love
REFRESH-INTERVAL;VALUE=DURATION:PT1H
X-Robots-Tag:noindex
X-PUBLISHED-TTL:PT1H
BEGIN:VTIMEZONE
TZID:America/Los_Angeles
BEGIN:DAYLIGHT
TZOFFSETFROM:-0800
TZOFFSETTO:-0700
TZNAME:PDT
DTSTART:20170312T100000
END:DAYLIGHT
BEGIN:STANDARD
TZOFFSETFROM:-0700
TZOFFSETTO:-0800
TZNAME:PST
DTSTART:20171105T090000
END:STANDARD
BEGIN:DAYLIGHT
TZOFFSETFROM:-0800
TZOFFSETTO:-0700
TZNAME:PDT
DTSTART:20180311T100000
END:DAYLIGHT
BEGIN:STANDARD
TZOFFSETFROM:-0700
TZOFFSETTO:-0800
TZNAME:PST
DTSTART:20181104T090000
END:STANDARD
BEGIN:DAYLIGHT
TZOFFSETFROM:-0800
TZOFFSETTO:-0700
TZNAME:PDT
DTSTART:20190310T100000
END:DAYLIGHT
BEGIN:STANDARD
TZOFFSETFROM:-0700
TZOFFSETTO:-0800
TZNAME:PST
DTSTART:20191103T090000
END:STANDARD
END:VTIMEZONE
BEGIN:VTIMEZONE
TZID:UTC
BEGIN:STANDARD
TZOFFSETFROM:+0000
TZOFFSETTO:+0000
TZNAME:UTC
DTSTART:20160101T000000
END:STANDARD
END:VTIMEZONE
BEGIN:VEVENT
DTSTART;TZID=America/Los_Angeles:20180915T170000
DTEND;TZID=America/Los_Angeles:20180916T170000
DTSTAMP:20260421T100105
CREATED:20180822T074351Z
LAST-MODIFIED:20180822T074551Z
UID:3961-1537030800-1537117200@evolvinglove.us
SUMMARY:Decompression 2018
DESCRIPTION:LOCATION:\nVilla San Pedro San Rafael\, CA 94903 \nPARKING:\nOn the Corner of Del Hero Way and Arcangel Way San Pedro\, CA.  There will be rope light on the green field at the end of the corner and a lighted sign to light your way through the back of the house.  By neighbors request\, do not park along the street near the house. \nSCHEDULE:\nSaturday Sept 15th\, 2018\n5:00 PM-6:00 PM Gates Open/Arrival\n6:30PM-Doors Close\n7:30 PM-8:30 PM Opening Circle\n10:00 AM Special Performances\n11:00 AM – 2:00 AM DJ’s + Special Musical Guest\n\nSunday Sept 16\, 2018\n10:30 AM Catered Vegetarian Brunch\n4:00 PM-5:00 PM Cleanup and Depart
URL:https://evolvinglove.us/event/decomp-2018/
LOCATION:Casa San Pedro\, Villa San Pedro (Park @ Del Hero Way and Arcangel Way)\, San Rafael\, CA\, 94903\, United States
CATEGORIES:Community Events
ORGANIZER;CN="Jennifer Russell":MAILTO:bryanandjennifer@california-leadership.com
END:VEVENT
BEGIN:VEVENT
DTSTART;TZID=UTC:20171231T170000
DTEND;TZID=UTC:20180101T170000
DTSTAMP:20260421T100105
CREATED:20171209T062353Z
LAST-MODIFIED:20171209T062715Z
UID:3433-1514739600-1514826000@evolvinglove.us
SUMMARY:New Year's Eve 2017
DESCRIPTION:LOCATION:\nVilla San Pedro San Rafael\, CA 94903 \nPARKING:\nOn the Corner of Del Hero Way and Arcangel Way San Pedro\, CA.  There will be rope light on the green field at the end of the corner and a lighted sign to light your way through the back of the house.  By neighbors request\, do not park along the street near the house. \nSCHEDULE:\nSunday December 31st 2017\n5:30 PM-6:30 PM Gates Open/Arrival\n6:30PM-Doors Close\n7:30 PM-8:30 PM Opening Circle\n12:00 AM-Celebrate New Year’s + Special Performances\n\nMonday January 1st 2017\n9:30 AM Catered Vegetarian Breakfast\n1:30 PM Catered Vegetarian Lunch\n4:00 PM-5:00 PM Cleanup and Depart
URL:https://evolvinglove.us/event/new-years-eve-2017/
LOCATION:Casa San Pedro\, Villa San Pedro (Park @ Del Hero Way and Arcangel Way)\, San Rafael\, CA\, 94903\, United States
CATEGORIES:Community Events
ORGANIZER;CN="":MAILTO:jennifer@california-leadership.com
END:VEVENT
END:VCALENDAR